BEGIN:VCALENDAR
VERSION:2.0
PRODID:-//Verde Natural Resource Conservation District - ECPv6.15.20//NONSGML v1.0//EN
CALSCALE:GREGORIAN
METHOD:PUBLISH
X-ORIGINAL-URL:https://verdenrcd.org
X-WR-CALDESC:Events for Verde Natural Resource Conservation District
REFRESH-INTERVAL;VALUE=DURATION:PT1H
X-Robots-Tag:noindex
X-PUBLISHED-TTL:PT1H
BEGIN:VTIMEZONE
TZID:America/Phoenix
BEGIN:STANDARD
TZOFFSETFROM:-0700
TZOFFSETTO:-0700
TZNAME:MST
DTSTART:20250101T000000
END:STANDARD
END:VTIMEZONE
BEGIN:VEVENT
DTSTART;TZID=America/Phoenix:20260410T090000
DTEND;TZID=America/Phoenix:20260410T120000
DTSTAMP:20260420T013016
CREATED:20260216T174153Z
LAST-MODIFIED:20260408T160659Z
UID:3402-1775811600-1775822400@verdenrcd.org
SUMMARY:Local Work Group
DESCRIPTION:Welcome Cooperator Agreement-Explanation UA Cooperative Extension led Discussion: Ranching Challenges in Verde District Closing Remarks Agenda
URL:https://verdenrcd.org/event/local-work-group/
LOCATION:Camp Verde Marshal’s Office\, 646 S 1st St\, Camp Verde\, AZ\, 86322\, United States
END:VEVENT
BEGIN:VEVENT
DTSTART;TZID=America/Phoenix:20260410T120000
DTEND;TZID=America/Phoenix:20260410T130000
DTSTAMP:20260420T013017
CREATED:20260216T174250Z
LAST-MODIFIED:20260408T160753Z
UID:3405-1775822400-1775826000@verdenrcd.org
SUMMARY:Verde NRCD Board Meeting
DESCRIPTION:Welcome Cooperator Agreement-Explanation UA Cooperative Extension led Discussion: Ranching Challenges in Verde District Closing Remarks Agenda
URL:https://verdenrcd.org/event/verde-nrcd-board-meeting-4-2026/
LOCATION:Camp Verde Marshal’s Office\, 646 S 1st St\, Camp Verde\, AZ\, 86322\, United States
END:VEVENT
BEGIN:VEVENT
DTSTART;TZID=America/Phoenix:20260420T090000
DTEND;TZID=America/Phoenix:20260420T100000
DTSTAMP:20260420T013017
CREATED:20260417T192014Z
LAST-MODIFIED:20260417T192014Z
UID:3507-1776675600-1776679200@verdenrcd.org
SUMMARY:Verde Natural Resource Conservation District
DESCRIPTION:Welcome Cooperator Agreement-Explanation UA Cooperative Extension led Discussion: Ranching Challenges in Verde District Closing Remarks Agenda
URL:https://verdenrcd.org/event/verde-natural-resource-conservation-district/
LOCATION:AZ
END:VEVENT
BEGIN:VEVENT
DTSTART;TZID=America/Phoenix:20260508T090000
DTEND;TZID=America/Phoenix:20260508T120000
DTSTAMP:20260420T013017
CREATED:20260417T160017Z
LAST-MODIFIED:20260417T192503Z
UID:3510-1778230800-1778241600@verdenrcd.org
SUMMARY:Verde NRCD Board Meeting
DESCRIPTION:Welcome Cooperator Agreement-Explanation UA Cooperative Extension led Discussion: Ranching Challenges in Verde District Closing Remarks Agenda
URL:https://verdenrcd.org/event/verde-nrcd-board-meeting-4-2026-2/
LOCATION:Camp Verde Marshal’s Office\, 646 S 1st St\, Camp Verde\, AZ\, 86322\, United States
END:VEVENT
BEGIN:VEVENT
DTSTART;TZID=America/Phoenix:20260612T090000
DTEND;TZID=America/Phoenix:20260612T120000
DTSTAMP:20260420T013017
CREATED:20260417T200540Z
LAST-MODIFIED:20260417T200558Z
UID:3513-1781254800-1781265600@verdenrcd.org
SUMMARY:Verde NRCD Board Meeting
DESCRIPTION:Welcome Cooperator Agreement-Explanation UA Cooperative Extension led Discussion: Ranching Challenges in Verde District Closing Remarks Agenda
URL:https://verdenrcd.org/event/virty-nrcd-board-meeting/
LOCATION:AZ
END:VEVENT
END:VCALENDAR